{"text_format":"1","workbook":"xlsx","n_sheets":4,"sheets":["年度入力シート","年度CO2","年度金額","年度別推移"],"not_rendered":{"charts":12,"images":0,"macros":0,"external_links":0,"defined_names":1,"comments":0,"pivot_tables":0},"unopened":[],"bounds":{"document_bytes":16777216,"sheet_cells":100000,"rows_first":2000,"rows_last":500,"rows_between":2000,"halvings":0,"cell_chars":16384,"cell_head_chars":4096},"cells_cut":0,"cells_raw":0,"read":"whole","date_system":"1900"}

{"sheet":"年度入力シート","index":0,"n_rows":46,"n_cols":15,"rows_kept":46,"cut":false,"hidden":false,"merged":[[0,0,0,12],[5,14,6,14],[6,0,6,1]]}
["「エコライフノート」　　　　　　　年度"]
["パソコンで入力する場合は、      部分のみ入力してください。排出量・合計は自動計算されます。",null,null,null,null,null,null,null,null,null,"社名："]
[]
["請求が２ヶ月に１度の場合は、２等分してください。",null,null,null,null,null,null,null,null,null,"人数："]
[]
[null,null,"電気\n(kwh)","都市ｶﾞｽ\n（m3)","ＬＰガス\n（ｍ3）","水道\n（m3)","灯油\n（Ｌ）","ガソリン\n（Ｌ）","軽油\n（Ｌ）","紙\n（kg）","合計",null,"電気\n(kwh)","総合計","具体的な活動\n特に取り組んだことを\nご紹介ください。"]
["ＣＯ2排出係数 <a>",null,0.52200000000000002,2.29,5.8840000000000003,0.57999999999999996,2.4900000000000002,2.3199999999999998,2.58,0.49,"-",null,0.52200000000000002,"-"]
["４月","使用量        <b>",null,null,null,null,null,null,null,null,"-","売電量        <b>",null,"-"]
[null,"排出量(kg) <a×b>",{"$f":"C7*C8","v":0},0,0,0,0,0,{"$f":"I7*I8","v":0},0,{"$f":"SUM(C9:J9)","v":0},"吸収量(kg) <a×b>",{"$f":"M7*M8","v":0},{"$f":"K9-M9","v":0}]
[null,"金 額 （円）",null,null,null,null,null,null,null,null,{"$f":"SUM(C10:J10)","v":0},"金 額 （円）",null,{"$f":"K10-M10","v":0}]
["５月","使用量        <b>",null,null,null,null,null,null,null,null,"-","売電量        <b>",null,"-"]
[null,"排出量(kg) <a×b>",{"$f":"C7*C11","v":0},0,0,0,0,0,{"$f":"I7*I11","v":0},0,{"$f":"SUM(C12:J12)","v":0},"吸収量(kg) <a×b>",{"$f":"M10*M11","v":0},{"$f":"K12-M12","v":0}]
[null,"金 額 （円）",null,null,null,null,null,null,null,null,{"$f":"SUM(C13:J13)","v":0},"金 額 （円）",null,{"$f":"K13-M13","v":0}]
["６月","使用量        <b>",null,null,null,null,null,null,null,null,"-","売電量        <b>",null,"-"]
[null,"排出量(kg) <a×b>",{"$f":"C7*C14","v":0},0,0,0,0,0,{"$f":"I7*I14","v":0},0,{"$f":"SUM(C15:J15)","v":0},"吸収量(kg) <a×b>",{"$f":"M13*M14","v":0},{"$f":"K15-M15","v":0}]
[null,"金 額 （円）",null,null,null,null,null,null,null,null,{"$f":"SUM(C16:J16)","v":0},"金 額 （円）",null,{"$f":"K16-M16","v":0}]
["７月","使用量        <b>",null,null,null,null,null,null,null,null,"-","売電量        <b>",null,"-"]
[null,"排出量(kg) <a×b>",{"$f":"C7*C17","v":0},0,0,0,0,0,{"$f":"I7*I17","v":0},0,{"$f":"SUM(C18:J18)","v":0},"吸収量(kg) <a×b>",{"$f":"M16*M17","v":0},{"$f":"K18-M18","v":0}]
[null,"金 額 （円）",null,null,null,null,null,null,null,null,{"$f":"SUM(C19:J19)","v":0},"金 額 （円）",null,{"$f":"K19-M19","v":0}]
["８月","使用量        <b>",null,null,null,null,null,null,null,null,"-","売電量        <b>",null,"-"]
[null,"排出量(kg) <a×b>",{"$f":"C7*C20","v":0},0,0,0,0,0,{"$f":"I7*I20","v":0},0,{"$f":"SUM(C21:J21)","v":0},"吸収量(kg) <a×b>",{"$f":"M19*M20","v":0},{"$f":"K21-M21","v":0}]
[null,"金 額 （円）",null,null,null,null,null,null,null,null,{"$f":"SUM(C22:J22)","v":0},"金 額 （円）",null,{"$f":"K22-M22","v":0}]
["９月","使用量        <b>",null,null,null,null,null,null,null,null,"-","売電量        <b>",null,"-"]
[null,"排出量(kg) <a×b>",{"$f":"C7*C23","v":0},0,0,0,0,0,{"$f":"I7*I23","v":0},0,{"$f":"SUM(C24:J24)","v":0},"吸収量(kg) <a×b>",{"$f":"M22*M23","v":0},{"$f":"K24-M24","v":0}]
[null,"金 額 （円）",null,null,null,null,null,null,null,null,{"$f":"SUM(C25:J25)","v":0},"金 額 （円）",null,{"$f":"K25-M25","v":0}]
["10月","使用量        <b>",null,null,null,null,null,null,null,null,"-","売電量        <b>",null,"-"]
[null,"排出量(kg) <a×b>",{"$f":"C7*C26","v":0},0,0,0,0,0,{"$f":"I7*I26","v":0},0,{"$f":"SUM(C27:J27)","v":0},"吸収量(kg) <a×b>",{"$f":"M25*M26","v":0},{"$f":"K27-M27","v":0}]
[null,"金 額 （円）",null,null,null,null,null,null,null,null,{"$f":"SUM(C28:J28)","v":0},"金 額 （円）",null,{"$f":"K28-M28","v":0}]
["11月","使用量        <b>",null,null,null,null,null,null,null,null,"-","売電量        <b>",null,"-"]
[null,"排出量(kg) <a×b>",{"$f":"C7*C29","v":0},0,0,0,0,0,{"$f":"I7*I29","v":0},0,{"$f":"SUM(C30:J30)","v":0},"吸収量(kg) <a×b>",{"$f":"M28*M29","v":0},{"$f":"K30-M30","v":0}]
[null,"金 額 （円）",null,null,null,null,null,null,null,null,{"$f":"SUM(C31:J31)","v":0},"金 額 （円）",null,{"$f":"K31-M31","v":0}]
["12月","使用量        <b>",null,null,null,null,null,null,null,null,"-","売電量        <b>",null,"-"]
[null,"排出量(kg) <a×b>",{"$f":"C7*C32","v":0},0,0,0,0,0,{"$f":"I7*I32","v":0},0,{"$f":"SUM(C33:J33)","v":0},"吸収量(kg) <a×b>",{"$f":"M31*M32","v":0},{"$f":"K33-M33","v":0}]
[null,"金 額 （円）",null,null,null,null,null,null,null,null,{"$f":"SUM(C34:J34)","v":0},"金 額 （円）",null,{"$f":"K34-M34","v":0}]
["１月","使用量        <b>",null,null,null,null,null,null,null,null,"-","売電量        <b>",null,"-"]
[null,"排出量(kg) <a×b>",{"$f":"C7*C35","v":0},0,0,0,0,0,{"$f":"I7*I35","v":0},0,{"$f":"SUM(C36:J36)","v":0},"吸収量(kg) <a×b>",{"$f":"M34*M35","v":0},{"$f":"K36-M36","v":0}]
[null,"金 額 （円）",null,null,null,null,null,null,null,null,{"$f":"SUM(C37:J37)","v":0},"金 額 （円）",null,{"$f":"K37-M37","v":0}]
["２月","使用量        <b>",null,null,null,null,null,null,null,null,"-","売電量        <b>",null,"-"]
[null,"排出量(kg) <a×b>",{"$f":"C7*C38","v":0},0,0,0,0,0,{"$f":"I7*I38","v":0},0,{"$f":"SUM(C39:J39)","v":0},"吸収量(kg) <a×b>",{"$f":"M37*M38","v":0},{"$f":"K39-M39","v":0}]
[null,"金 額 （円）",null,null,null,null,null,null,null,null,{"$f":"SUM(C40:J40)","v":0},"金 額 （円）",null,{"$f":"K40-M40","v":0}]
["３月","使用量        <b>",null,null,null,null,null,null,null,null,"-","売電量        <b>",null,"-"]
[null,"排出量(kg) <a×b>",{"$f":"C7*C41","v":0},0,0,0,0,0,{"$f":"I7*I41","v":0},{"$f":"J7*J41","v":0},{"$f":"SUM(C42:J42)","v":0},"吸収量(kg) <a×b>",{"$f":"M40*M41","v":0},{"$f":"K42-M42","v":0}]
[null,"金 額 （円）",null,null,null,null,null,null,null,null,{"$f":"SUM(C43:J43)","v":0},"金 額 （円）",null,{"$f":"K43-M43","v":0}]
["累計","使用量        <b>",{"$f":"C8+C11+C14+C17+C20+C23+C26+C29+C32+C35+C38+C41","v":0},{"$f":"D8+D11+D14+D17+D20+D23+D26+D29+D32+D35+D38+D41","v":0},0,0,0,0,0,0,"-","売電量       <b>",{"$f":"M8+M11+M14+M17+M20+M23+M26+M29+M32+M35+M38+M41","v":0},"-"]
[null,"排出量(kg) <a×b>",{"$f":"C7*C44","v":0},0,0,0,0,0,0,0,{"$f":"SUM(C45:J45)","v":0},"吸収量(kg) <a×b>",{"$f":"M7*M44","v":0},{"$f":"SUM(C45:J45)-M45","v":0}]
[null,"金 額 （円）",{"$f":"C10+C13+C16+C19+C22+C25+C28+C31+C34+C37+C40+C43","v":0},0,0,0,0,0,0,0,{"$f":"SUM(C46:J46)","v":0},"金 額 （円）",{"$f":"M10+M13+M16+M19+M22+M25+M28+M31+M34+M37+M40+M43","v":0},{"$f":"SUM(C46:J46)-M46","v":0}]

{"sheet":"年度CO2","index":1,"n_rows":15,"n_cols":16,"rows_kept":15,"cut":false,"hidden":false,"merged":[]}
[]
[null,null,"電気","ガス","水道","灯油","ｶﾞｿﾘﾝ","軽油","紙","合計",null,"都市","ＬＰ",null,"電気","売電"]
[null,{"$f":"年度入力シート!A8","v":"４月"},{"$f":"O3-P3","v":0},{"$f":"SUM(L3:M3)","v":0},{"$f":"年度入力シート!F9","v":0},{"$f":"年度入力シート!G9","v":0},{"$f":"年度入力シート!H9","v":0},{"$f":"年度入力シート!I9","v":0},{"$f":"年度入力シート!J9","v":0},{"$f":"年度入力シート!N9","v":0},null,{"$f":"年度入力シート!D9","v":0},{"$f":"年度入力シート!E9","v":0},null,{"$f":"年度入力シート!P9","v":0},{"$f":"年度入力シート!M9","v":0}]
[null,{"$f":"年度入力シート!A11","v":"５月"},{"$f":"O4-P4","v":0},0,{"$f":"年度入力シート!F12","v":0},{"$f":"年度入力シート!G12","v":0},{"$f":"年度入力シート!H12","v":0},{"$f":"年度入力シート!I12","v":0},{"$f":"年度入力シート!J12","v":0},{"$f":"年度入力シート!N12","v":0},null,{"$f":"年度入力シート!D12","v":0},{"$f":"年度入力シート!E12","v":0},null,{"$f":"年度入力シート!P12","v":0},{"$f":"年度入力シート!M12","v":0}]
[null,{"$f":"年度入力シート!A14","v":"６月"},0,0,{"$f":"年度入力シート!F15","v":0},{"$f":"年度入力シート!G15","v":0},{"$f":"年度入力シート!H15","v":0},{"$f":"年度入力シート!I15","v":0},{"$f":"年度入力シート!J15","v":0},{"$f":"年度入力シート!N15","v":0},null,{"$f":"年度入力シート!D15","v":0},{"$f":"年度入力シート!E15","v":0},null,{"$f":"年度入力シート!P15","v":0},{"$f":"年度入力シート!M15","v":0}]
[null,{"$f":"年度入力シート!A17","v":"７月"},0,0,{"$f":"年度入力シート!F18","v":0},{"$f":"年度入力シート!G18","v":0},{"$f":"年度入力シート!H18","v":0},{"$f":"年度入力シート!I18","v":0},{"$f":"年度入力シート!J18","v":0},{"$f":"年度入力シート!N18","v":0},null,{"$f":"年度入力シート!D18","v":0},{"$f":"年度入力シート!E18","v":0},null,{"$f":"年度入力シート!P18","v":0},{"$f":"年度入力シート!M18","v":0}]
[null,{"$f":"年度入力シート!A20","v":"８月"},0,0,{"$f":"年度入力シート!F21","v":0},{"$f":"年度入力シート!G21","v":0},{"$f":"年度入力シート!H21","v":0},{"$f":"年度入力シート!I21","v":0},{"$f":"年度入力シート!J21","v":0},{"$f":"年度入力シート!N21","v":0},null,{"$f":"年度入力シート!D21","v":0},{"$f":"年度入力シート!E21","v":0},null,{"$f":"年度入力シート!P21","v":0},{"$f":"年度入力シート!M21","v":0}]
[null,{"$f":"年度入力シート!A23","v":"９月"},0,0,{"$f":"年度入力シート!F24","v":0},{"$f":"年度入力シート!G24","v":0},{"$f":"年度入力シート!H24","v":0},{"$f":"年度入力シート!I24","v":0},{"$f":"年度入力シート!J24","v":0},{"$f":"年度入力シート!N24","v":0},null,{"$f":"年度入力シート!D24","v":0},{"$f":"年度入力シート!E24","v":0},null,{"$f":"年度入力シート!P24","v":0},{"$f":"年度入力シート!M24","v":0}]
[null,{"$f":"年度入力シート!A26","v":"10月"},0,0,{"$f":"年度入力シート!F27","v":0},{"$f":"年度入力シート!G27","v":0},{"$f":"年度入力シート!H27","v":0},{"$f":"年度入力シート!I27","v":0},{"$f":"年度入力シート!J27","v":0},{"$f":"年度入力シート!N27","v":0},null,{"$f":"年度入力シート!D27","v":0},{"$f":"年度入力シート!E27","v":0},null,{"$f":"年度入力シート!P27","v":0},{"$f":"年度入力シート!M27","v":0}]
[null,{"$f":"年度入力シート!A29","v":"11月"},0,0,{"$f":"年度入力シート!F30","v":0},{"$f":"年度入力シート!G30","v":0},{"$f":"年度入力シート!H30","v":0},{"$f":"年度入力シート!I30","v":0},{"$f":"年度入力シート!J30","v":0},{"$f":"年度入力シート!N30","v":0},null,{"$f":"年度入力シート!D30","v":0},{"$f":"年度入力シート!E30","v":0},null,{"$f":"年度入力シート!P30","v":0},{"$f":"年度入力シート!M30","v":0}]
[null,{"$f":"年度入力シート!A32","v":"12月"},0,0,{"$f":"年度入力シート!F33","v":0},{"$f":"年度入力シート!G33","v":0},{"$f":"年度入力シート!H33","v":0},{"$f":"年度入力シート!I33","v":0},{"$f":"年度入力シート!J33","v":0},{"$f":"年度入力シート!N33","v":0},null,{"$f":"年度入力シート!D33","v":0},{"$f":"年度入力シート!E33","v":0},null,{"$f":"年度入力シート!P33","v":0},{"$f":"年度入力シート!M33","v":0}]
[null,{"$f":"年度入力シート!A35","v":"１月"},0,0,{"$f":"年度入力シート!F36","v":0},{"$f":"年度入力シート!G36","v":0},{"$f":"年度入力シート!H36","v":0},{"$f":"年度入力シート!I36","v":0},{"$f":"年度入力シート!J36","v":0},{"$f":"年度入力シート!N36","v":0},null,{"$f":"年度入力シート!D36","v":0},{"$f":"年度入力シート!E36","v":0},null,{"$f":"年度入力シート!P36","v":0},{"$f":"年度入力シート!M36","v":0}]
[null,{"$f":"年度入力シート!A38","v":"２月"},0,0,{"$f":"年度入力シート!F39","v":0},{"$f":"年度入力シート!G39","v":0},{"$f":"年度入力シート!H39","v":0},{"$f":"年度入力シート!I39","v":0},{"$f":"年度入力シート!J39","v":0},{"$f":"年度入力シート!N39","v":0},null,{"$f":"年度入力シート!D39","v":0},{"$f":"年度入力シート!E39","v":0},null,{"$f":"年度入力シート!P39","v":0},{"$f":"年度入力シート!M39","v":0}]
[null,{"$f":"年度入力シート!A41","v":"３月"},0,0,{"$f":"年度入力シート!F42","v":0},{"$f":"年度入力シート!G42","v":0},{"$f":"年度入力シート!H42","v":0},{"$f":"年度入力シート!I42","v":0},{"$f":"年度入力シート!J42","v":0},{"$f":"年度入力シート!N42","v":0},null,{"$f":"年度入力シート!D42","v":0},{"$f":"年度入力シート!E42","v":0},null,{"$f":"年度入力シート!P42","v":0},{"$f":"年度入力シート!M42","v":0}]
[null,"累計",0,0,{"$f":"年度入力シート!F45","v":0},{"$f":"年度入力シート!G45","v":0},{"$f":"年度入力シート!H45","v":0},{"$f":"年度入力シート!I45","v":0},{"$f":"年度入力シート!J45","v":0},{"$f":"年度入力シート!N45","v":0},null,{"$f":"年度入力シート!D45","v":0},{"$f":"年度入力シート!E45","v":0},null,{"$f":"年度入力シート!P45","v":0},{"$f":"年度入力シート!M45","v":0}]

{"sheet":"年度金額","index":2,"n_rows":15,"n_cols":16,"rows_kept":15,"cut":false,"hidden":false,"merged":[]}
[]
[null,null,"電気","ガス","水道","灯油","ｶﾞｿﾘﾝ","軽油","紙","合計",null,"都市","ＬＰ",null,"電気","売電"]
[null,{"$f":"年度入力シート!A8","v":"４月"},{"$f":"O3-P3","v":0},{"$f":"SUM(L3:M3)","v":0},{"$f":"年度入力シート!F10","v":0},{"$f":"年度入力シート!G10","v":0},{"$f":"年度入力シート!H10","v":0},{"$f":"年度入力シート!I10","v":0},{"$f":"年度入力シート!J10","v":0},{"$f":"年度入力シート!N10","v":0},null,{"$f":"年度入力シート!D10","v":0},{"$f":"年度入力シート!E10","v":0},null,{"$f":"年度入力シート!C10","v":0},{"$f":"年度入力シート!M10","v":0}]
[null,{"$f":"年度入力シート!A11","v":"５月"},{"$f":"O4-P4","v":0},0,{"$f":"年度入力シート!F13","v":0},{"$f":"年度入力シート!G13","v":0},{"$f":"年度入力シート!H13","v":0},{"$f":"年度入力シート!I13","v":0},{"$f":"年度入力シート!J13","v":0},{"$f":"年度入力シート!N13","v":0},null,{"$f":"年度入力シート!D13","v":0},{"$f":"年度入力シート!E13","v":0},null,{"$f":"年度入力シート!C13","v":0},{"$f":"年度入力シート!M13","v":0}]
[null,{"$f":"年度入力シート!A14","v":"６月"},0,0,{"$f":"年度入力シート!F16","v":0},{"$f":"年度入力シート!G16","v":0},{"$f":"年度入力シート!H16","v":0},{"$f":"年度入力シート!I16","v":0},{"$f":"年度入力シート!J16","v":0},{"$f":"年度入力シート!N16","v":0},null,{"$f":"年度入力シート!D16","v":0},{"$f":"年度入力シート!E16","v":0},null,{"$f":"年度入力シート!C16","v":0},{"$f":"年度入力シート!M16","v":0}]
[null,{"$f":"年度入力シート!A17","v":"７月"},0,0,{"$f":"年度入力シート!F19","v":0},{"$f":"年度入力シート!G19","v":0},{"$f":"年度入力シート!H19","v":0},{"$f":"年度入力シート!I19","v":0},{"$f":"年度入力シート!J19","v":0},{"$f":"年度入力シート!N19","v":0},null,{"$f":"年度入力シート!D19","v":0},{"$f":"年度入力シート!E19","v":0},null,{"$f":"年度入力シート!C19","v":0},{"$f":"年度入力シート!M19","v":0}]
[null,{"$f":"年度入力シート!A20","v":"８月"},0,0,{"$f":"年度入力シート!F22","v":0},{"$f":"年度入力シート!G22","v":0},{"$f":"年度入力シート!H22","v":0},{"$f":"年度入力シート!I22","v":0},{"$f":"年度入力シート!J22","v":0},{"$f":"年度入力シート!N22","v":0},null,{"$f":"年度入力シート!D22","v":0},{"$f":"年度入力シート!E22","v":0},null,{"$f":"年度入力シート!C22","v":0},{"$f":"年度入力シート!M22","v":0}]
[null,{"$f":"年度入力シート!A23","v":"９月"},0,0,{"$f":"年度入力シート!F25","v":0},{"$f":"年度入力シート!G25","v":0},{"$f":"年度入力シート!H25","v":0},{"$f":"年度入力シート!I25","v":0},{"$f":"年度入力シート!J25","v":0},{"$f":"年度入力シート!N25","v":0},null,{"$f":"年度入力シート!D25","v":0},{"$f":"年度入力シート!E25","v":0},null,{"$f":"年度入力シート!C25","v":0},{"$f":"年度入力シート!M25","v":0}]
[null,{"$f":"年度入力シート!A26","v":"10月"},0,0,{"$f":"年度入力シート!F28","v":0},{"$f":"年度入力シート!G28","v":0},{"$f":"年度入力シート!H28","v":0},{"$f":"年度入力シート!I28","v":0},{"$f":"年度入力シート!J28","v":0},{"$f":"年度入力シート!N28","v":0},null,{"$f":"年度入力シート!D28","v":0},{"$f":"年度入力シート!E28","v":0},null,{"$f":"年度入力シート!C28","v":0},{"$f":"年度入力シート!M28","v":0}]
[null,{"$f":"年度入力シート!A29","v":"11月"},0,0,{"$f":"年度入力シート!F31","v":0},{"$f":"年度入力シート!G31","v":0},{"$f":"年度入力シート!H31","v":0},{"$f":"年度入力シート!I31","v":0},{"$f":"年度入力シート!J31","v":0},{"$f":"年度入力シート!N31","v":0},null,{"$f":"年度入力シート!D31","v":0},{"$f":"年度入力シート!E31","v":0},null,{"$f":"年度入力シート!C31","v":0},{"$f":"年度入力シート!M31","v":0}]
[null,{"$f":"年度入力シート!A32","v":"12月"},0,0,{"$f":"年度入力シート!F34","v":0},{"$f":"年度入力シート!G34","v":0},{"$f":"年度入力シート!H34","v":0},{"$f":"年度入力シート!I34","v":0},{"$f":"年度入力シート!J34","v":0},{"$f":"年度入力シート!N34","v":0},null,{"$f":"年度入力シート!D34","v":0},{"$f":"年度入力シート!E34","v":0},null,{"$f":"年度入力シート!C34","v":0},{"$f":"年度入力シート!M34","v":0}]
[null,{"$f":"年度入力シート!A35","v":"１月"},0,0,{"$f":"年度入力シート!F37","v":0},{"$f":"年度入力シート!G37","v":0},{"$f":"年度入力シート!H37","v":0},{"$f":"年度入力シート!I37","v":0},{"$f":"年度入力シート!J37","v":0},{"$f":"年度入力シート!N37","v":0},null,{"$f":"年度入力シート!D37","v":0},{"$f":"年度入力シート!E37","v":0},null,{"$f":"年度入力シート!C37","v":0},{"$f":"年度入力シート!M37","v":0}]
[null,{"$f":"年度入力シート!A38","v":"２月"},0,0,{"$f":"年度入力シート!F40","v":0},{"$f":"年度入力シート!G40","v":0},{"$f":"年度入力シート!H40","v":0},{"$f":"年度入力シート!I40","v":0},{"$f":"年度入力シート!J40","v":0},{"$f":"年度入力シート!N40","v":0},null,{"$f":"年度入力シート!D40","v":0},{"$f":"年度入力シート!E40","v":0},null,{"$f":"年度入力シート!C40","v":0},{"$f":"年度入力シート!M40","v":0}]
[null,{"$f":"年度入力シート!A41","v":"３月"},0,0,{"$f":"年度入力シート!F43","v":0},{"$f":"年度入力シート!G43","v":0},{"$f":"年度入力シート!H43","v":0},{"$f":"年度入力シート!I43","v":0},{"$f":"年度入力シート!J43","v":0},{"$f":"年度入力シート!N43","v":0},null,{"$f":"年度入力シート!D43","v":0},{"$f":"年度入力シート!E43","v":0},null,{"$f":"年度入力シート!C43","v":0},{"$f":"年度入力シート!M43","v":0}]
[null,"累計",{"$f":"年度入力シート!C46","v":0},0,{"$f":"年度入力シート!F46","v":0},{"$f":"年度入力シート!G46","v":0},{"$f":"年度入力シート!H46","v":0},{"$f":"年度入力シート!I46","v":0},{"$f":"年度入力シート!J46","v":0},{"$f":"年度入力シート!N46","v":0},null,{"$f":"年度入力シート!D46","v":0},{"$f":"年度入力シート!E46","v":0},null,{"$f":"年度入力シート!C46","v":0},{"$f":"年度入力シート!M46","v":0}]

{"sheet":"年度別推移","index":3,"n_rows":44,"n_cols":15,"rows_kept":44,"cut":false,"hidden":false,"merged":[]}
["エコライフノート年度別推移表"]
["使用量",{"$f":"年度入力シート!A8","v":"４月"},{"$f":"年度入力シート!A11","v":"５月"},{"$f":"年度入力シート!A14","v":"６月"},{"$f":"年度入力シート!A17","v":"７月"},{"$f":"年度入力シート!A20","v":"８月"},{"$f":"年度入力シート!A23","v":"９月"},{"$f":"年度入力シート!A26","v":"10月"},{"$f":"年度入力シート!A29","v":"11月"},{"$f":"年度入力シート!A32","v":"12月"},{"$f":"年度入力シート!A35","v":"１月"},{"$f":"年度入力シート!A38","v":"２月"},{"$f":"年度入力シート!A41","v":"３月"},"合計","平均/月"]
["電気　　年\n(kwh)"]
["電気　　年\n(kwh)"]
["電気　　年\n(kwh)"]
["電気　　年\n(kwh)"]
["電気　　年\n(kwh)"]
["都市ｶﾞｽ　年度\n（m3)"]
["都市ｶﾞｽ　年度\n（m3)"]
["都市ｶﾞｽ　年度\n（m3)"]
["都市ｶﾞｽ　年度\n（m3)"]
["都市ｶﾞｽ　年度\n（m3)"]
["水道　年度\n（m3)"]
["水道　年度\n（m3)"]
["水道　年度\n（m3)"]
["水道　年度\n（m3)"]
["水道　年度\n（m3)"]
["ガソリン　年度\n（Ｌ）"]
["ガソリン　年度\n（Ｌ）"]
["ガソリン　年度\n（Ｌ）"]
["ガソリン　年度\n（Ｌ）"]
["ガソリン　年度\n（Ｌ）"]
[]
["金額",{"$f":"年度入力シート!A8","v":"４月"},{"$f":"年度入力シート!A11","v":"５月"},{"$f":"年度入力シート!A14","v":"６月"},{"$f":"年度入力シート!A17","v":"７月"},{"$f":"年度入力シート!A20","v":"８月"},{"$f":"年度入力シート!A23","v":"９月"},{"$f":"年度入力シート!A26","v":"10月"},{"$f":"年度入力シート!A29","v":"11月"},{"$f":"年度入力シート!A32","v":"12月"},{"$f":"年度入力シート!A35","v":"１月"},{"$f":"年度入力シート!A38","v":"２月"},{"$f":"年度入力シート!A41","v":"３月"},"合計","平均/月"]
["電気　　年\n(kwh)"]
["電気　　年\n(kwh)"]
["電気　　年\n(kwh)"]
["電気　　年\n(kwh)"]
["電気　　年\n(kwh)"]
["都市ｶﾞｽ　年度\n（m3)"]
["都市ｶﾞｽ　年度\n（m3)"]
["都市ｶﾞｽ　年度\n（m3)"]
["都市ｶﾞｽ　年度\n（m3)"]
["都市ｶﾞｽ　年度\n（m3)"]
["水道　年度\n（m3)"]
["水道　年度\n（m3)"]
["水道　年度\n（m3)"]
["水道　年度\n（m3)"]
["水道　年度\n（m3)"]
["ガソリン　年度\n（Ｌ）"]
["ガソリン　年度\n（Ｌ）"]
["ガソリン　年度\n（Ｌ）"]
["ガソリン　年度\n（Ｌ）"]
["ガソリン　年度\n（Ｌ）"]